BEGIN:VCALENDAR
VERSION:2.0
PRODID:-//Bilbok - ECPv6.15.3//NONSGML v1.0//EN
CALSCALE:GREGORIAN
METHOD:PUBLISH
X-ORIGINAL-URL:https://bilbok83.fr
X-WR-CALDESC:Évènements pour Bilbok
REFRESH-INTERVAL;VALUE=DURATION:PT1H
X-Robots-Tag:noindex
X-PUBLISHED-TTL:PT1H
BEGIN:VTIMEZONE
TZID:Europe/Paris
BEGIN:DAYLIGHT
TZOFFSETFROM:+0100
TZOFFSETTO:+0200
TZNAME:CEST
DTSTART:20250330T010000
END:DAYLIGHT
BEGIN:STANDARD
TZOFFSETFROM:+0200
TZOFFSETTO:+0100
TZNAME:CET
DTSTART:20251026T010000
END:STANDARD
END:VTIMEZONE
BEGIN:VEVENT
DTSTART;TZID=Europe/Paris:20250814T080000
DTEND;TZID=Europe/Paris:20250814T170000
DTSTAMP:20260422T204706
CREATED:20250814T102050Z
LAST-MODIFIED:20250814T102050Z
UID:5263-1755158400-1755190800@bilbok83.fr
SUMMARY:Sortie test
DESCRIPTION:
URL:https://bilbok83.fr/event/sortie-test/
END:VEVENT
END:VCALENDAR